BEGIN:VCALENDAR
VERSION:2.0
PRODID:-//wp-events-plugin.com//7.2.3.1//EN
TZID:Europe/Berlin
X-WR-TIMEZONE:Europe/Berlin
BEGIN:VEVENT
UID:105@xn--sthren-4ya.de
DTSTART;TZID=Europe/Berlin:20260207T090000
DTEND;TZID=Europe/Berlin:20260207T120000
DTSTAMP:20260218T193037Z
URL:https://xn--sthren-4ya.de/events/altpapiersammeln-5/
SUMMARY:Altpapiersammeln
DESCRIPTION:
LOCATION:Stühren\, Döhren\, Strühe\, Stühren\, Döhren\, Strühe\, Deut
 schland
X-APPLE-STRUCTURED-LOCATION;VALUE=URI;X-ADDRESS=Stühren\, Döhren\, Strüh
 e\, Deutschland;X-APPLE-RADIUS=100;X-TITLE=Stühren\, Döhren\, Strühe:ge
 o:0,0
END:VEVENT
BEGIN:VTIMEZONE
TZID:Europe/Berlin
X-LIC-LOCATION:Europe/Berlin
BEGIN:STANDARD
DTSTART:20251026T020000
TZOFFSETFROM:+0200
TZOFFSETTO:+0100
TZNAME:CET
END:STANDARD
END:VTIMEZONE
END:VCALENDAR