BEGIN:VCALENDAR
VERSION:2.0
PRODID:-//wp-events-plugin.com//7.2.3.1//EN
TZID:Europe/Berlin
X-WR-TIMEZONE:Europe/Berlin
BEGIN:VEVENT
UID:128@xn--sthren-4ya.de
DTSTART;TZID=Europe/Berlin:20261002T190000
DTEND;TZID=Europe/Berlin:20261002T190000
DTSTAMP:20260218T194938Z
URL:https://xn--sthren-4ya.de/events/mannschafts-doppelkopf-in-pestinghaus
 en-2/
SUMMARY:Mannschafts-Doppelkopf in Pestinghausen
DESCRIPTION:
LOCATION:Pestinghausen\, Schützenhalle\, Pestinghausen\, Deutschland
X-APPLE-STRUCTURED-LOCATION;VALUE=URI;X-ADDRESS=Schützenhalle\, Pestinghau
 sen\, Deutschland;X-APPLE-RADIUS=100;X-TITLE=Pestinghausen:geo:0,0
END:VEVENT
BEGIN:VTIMEZONE
TZID:Europe/Berlin
X-LIC-LOCATION:Europe/Berlin
BEGIN:DAYLIGHT
DTSTART:20260329T030000
TZOFFSETFROM:+0100
TZOFFSETTO:+0200
TZNAME:CEST
END:DAYLIGHT
END:VTIMEZONE
END:VCALENDAR