BEGIN:VCALENDAR
VERSION:2.0
PRODID:-//wp-events-plugin.com//7.2.3.1//EN
TZID:Europe/Berlin
X-WR-TIMEZONE:Europe/Berlin
BEGIN:VEVENT
UID:129@xn--sthren-4ya.de
DTSTART;TZID=Europe/Berlin:20261009T183000
DTEND;TZID=Europe/Berlin:20261009T183000
DTSTAMP:20260218T195030Z
URL:https://xn--sthren-4ya.de/events/nachbarschafts-pokalschiessen-in-kast
 endiek/
SUMMARY:Nachbarschafts-Pokalschießen in Kastendiek
DESCRIPTION:
LOCATION:Kastendiek\, Kastendiek\, Kastendiek\, Deutschland
X-APPLE-STRUCTURED-LOCATION;VALUE=URI;X-ADDRESS=Kastendiek\, Kastendiek\, D
 eutschland;X-APPLE-RADIUS=100;X-TITLE=Kastendiek:geo:0,0
END:VEVENT
BEGIN:VTIMEZONE
TZID:Europe/Berlin
X-LIC-LOCATION:Europe/Berlin
BEGIN:DAYLIGHT
DTSTART:20260329T030000
TZOFFSETFROM:+0100
TZOFFSETTO:+0200
TZNAME:CEST
END:DAYLIGHT
END:VTIMEZONE
END:VCALENDAR